BEGIN:VCALENDAR
VERSION:2.0
PRODID:-//Urban Programs Travis County - ECPv6.15.13.1//NONSGML v1.0//EN
CALSCALE:GREGORIAN
METHOD:PUBLISH
X-WR-CALNAME:Urban Programs Travis County
X-ORIGINAL-URL:https://travis-tx.tamu.edu
X-WR-CALDESC:Events for Urban Programs Travis County
REFRESH-INTERVAL;VALUE=DURATION:PT1H
X-Robots-Tag:noindex
X-PUBLISHED-TTL:PT1H
BEGIN:VTIMEZONE
TZID:America/Chicago
BEGIN:DAYLIGHT
TZOFFSETFROM:-0600
TZOFFSETTO:-0500
TZNAME:CDT
DTSTART:20230312T080000
END:DAYLIGHT
BEGIN:STANDARD
TZOFFSETFROM:-0500
TZOFFSETTO:-0600
TZNAME:CST
DTSTART:20231105T070000
END:STANDARD
BEGIN:DAYLIGHT
TZOFFSETFROM:-0600
TZOFFSETTO:-0500
TZNAME:CDT
DTSTART:20240310T080000
END:DAYLIGHT
BEGIN:STANDARD
TZOFFSETFROM:-0500
TZOFFSETTO:-0600
TZNAME:CST
DTSTART:20241103T070000
END:STANDARD
BEGIN:DAYLIGHT
TZOFFSETFROM:-0600
TZOFFSETTO:-0500
TZNAME:CDT
DTSTART:20250309T080000
END:DAYLIGHT
BEGIN:STANDARD
TZOFFSETFROM:-0500
TZOFFSETTO:-0600
TZNAME:CST
DTSTART:20251102T070000
END:STANDARD
END:VTIMEZONE
BEGIN:VEVENT
DTSTART;TZID=America/Chicago:20240719T100000
DTEND;TZID=America/Chicago:20240719T120000
DTSTAMP:20260424T190058
CREATED:20240712T110012Z
LAST-MODIFIED:20240108T221302Z
UID:17271-1721383200-1721390400@travis-tx.tamu.edu
SUMMARY:Backyard Bug Hunt: Predatory Insect ID
DESCRIPTION:Join Wizzie Brown for this month’s Backyard Bug Hunt: Predatory Insect ID\nWizzie Brown\, County Extension Program Specialist – Integrated Pest Management\, explains how to identify predatory insects. \nWhen: Time: July 19th\, 2024 10:00 AM Central Time (US and Canada) \nHow: Join Zoom Meeting \nPlease download and import the following iCalendar (.ics) files to your calendar system. \nMonthly: https://us02web.zoom.us/meeting/tZcld-2prD4iHNU9B1S6QgZYrURGPbcMPLIJ/ics?icsToken=98tyKuGrpjsuG9aQuB-GRpwqGoigLOvzpiVHgo1oxT20MHZiZTnPJNdwFYJ9E_Xg \nAdditional Resources\nIntegrated Pest Management \nAgriLife Extension Entomology \nPesticide Safety Education Resources \nAbout Wizzie\n\nWizzie Brown\nCounty Extension Program Specialist – Integrated Pest Management\nEmail:EBrown@ag.tamu.edu\nWizzie has been with Texas A&M AgriLife Extension Service since 2002 and has been playing with insects since she was a toddler. She is an Extension Program Specialist with the Integrated Pest Management (IPM) program. Wizzie holds a B.S. in entomology from The Ohio State University and a M.S. in entomology from Texas A&M University. The integrated pest management program provides identification\, biological and management information to whomever needs help. Wizzie’s research focuses on imported fire ants\, including community wide fire ant management. Wizzie also is happy to provide programs to area groups on a variety of arthropod-related topics. You can find insect and other arthropod information on Wizzie’s blog.
URL:https://travis-tx.tamu.edu/event/backyard-bug-hunt-predatory-insect-id/
LOCATION:Zoom Meeting
CATEGORIES:Horticulture,IPM
ORGANIZER;CN="Wizzie Brown":MAILTO:EBrown@ag.tamu.edu
END:VEVENT
END:VCALENDAR