BEGIN:VCALENDAR
VERSION:2.0
PRODID:-//Urban Programs Travis County - ECPv6.15.13.1//NONSGML v1.0//EN
CALSCALE:GREGORIAN
METHOD:PUBLISH
X-WR-CALNAME:Urban Programs Travis County
X-ORIGINAL-URL:https://travis-tx.tamu.edu
X-WR-CALDESC:Events for Urban Programs Travis County
REFRESH-INTERVAL;VALUE=DURATION:PT1H
X-Robots-Tag:noindex
X-PUBLISHED-TTL:PT1H
BEGIN:VTIMEZONE
TZID:America/Chicago
BEGIN:DAYLIGHT
TZOFFSETFROM:-0600
TZOFFSETTO:-0500
TZNAME:CDT
DTSTART:20230312T080000
END:DAYLIGHT
BEGIN:STANDARD
TZOFFSETFROM:-0500
TZOFFSETTO:-0600
TZNAME:CST
DTSTART:20231105T070000
END:STANDARD
BEGIN:DAYLIGHT
TZOFFSETFROM:-0600
TZOFFSETTO:-0500
TZNAME:CDT
DTSTART:20240310T080000
END:DAYLIGHT
BEGIN:STANDARD
TZOFFSETFROM:-0500
TZOFFSETTO:-0600
TZNAME:CST
DTSTART:20241103T070000
END:STANDARD
BEGIN:DAYLIGHT
TZOFFSETFROM:-0600
TZOFFSETTO:-0500
TZNAME:CDT
DTSTART:20250309T080000
END:DAYLIGHT
BEGIN:STANDARD
TZOFFSETFROM:-0500
TZOFFSETTO:-0600
TZNAME:CST
DTSTART:20251102T070000
END:STANDARD
END:VTIMEZONE
BEGIN:VEVENT
DTSTART;TZID=America/Chicago:20240803T090000
DTEND;TZID=America/Chicago:20240803T130000
DTSTAMP:20260425T075418
CREATED:20240724T110041Z
LAST-MODIFIED:20240111T191154Z
UID:17326-1722675600-1722690000@travis-tx.tamu.edu
SUMMARY:August Plant Clinic at Sunset Valley SFC Farmers Market
DESCRIPTION:Master Gardener August Plant Clinic at Sunset Valley SFC Farmers Market\nThe Master Gardeners at the Sunset Valley SFC Farmers Market August Plant Clinic can answer questions on tree trimming\, vegetable gardening\, landscaping small spaces\, butterfly gardening\, the best plants for the Austin area\, fertilizers\, and pest management. \nIn addition to sharing their experience and training\, several publications are on hand for you to review or take with you. You’ll find the Native and Adapted Landscape Plants Guide along with other timely Grow Green FAQ sheets. Grow Green is a joint program with the City of Austin Watershed Department and Texas A&M AgriLife Extension. You can also pick up a copy of the Vegetable Garden Planting Guide and recommended Vegetable Varieties for Central Texas. Several more resources are available online. Please visit Our Favorite Gardening Resources for Austin and Travis County. \nWhat is a Plant Clinic?\nThe Master Gardener Plant Clinic is a traveling help desk with Travis County Master Gardeners available to answer questions on various horticultural issues. You can find a Master Gardener at the Sunset Valley SFC Farmers Market the first Saturday of each month. Most feature a children’s activity. \nWho are Master Gardeners?\nMaster Gardeners are volunteers for the Travis County AgriLife Extension service. In order to become a Master Gardener\, each individual receives extensive horticultural training. Master Gardeners use their training and subsequent commitment for continuing education to help Austin area residents with their gardening questions. \nHow Can You Schedule a Plant Clinic for Your Event?\nIf you would like to schedule a Master Gardener Plant Clinic or have a speaker at your event\, please see this help directory for more information. 
URL:https://travis-tx.tamu.edu/event/august-plant-clinic-at-sunset-valley-sfc-farmers-market-2/
LOCATION:SFC Farmers Market at Sunset Valley\, 3200 Jones Rd\, Austin\, TX\, 78745\, United States
CATEGORIES:Horticulture
ORGANIZER;CN="Travis County Master Gardeners":MAILTO:travismg@ag.tamu.edu
END:VEVENT
BEGIN:VEVENT
DTSTART;TZID=America/Chicago:20240816T100000
DTEND;TZID=America/Chicago:20240816T120000
DTSTAMP:20260425T075418
CREATED:20240808T110018Z
LAST-MODIFIED:20240108T221706Z
UID:17273-1723802400-1723809600@travis-tx.tamu.edu
SUMMARY:Backyard Bug Hunt: Decomposers
DESCRIPTION:Join Wizzie Brown for this month’s Backyard Bug Hunt: Decomposers\nWizzie Brown\, County Extension Program Specialist – Integrated Pest Management\, talks about the different types of decomposers. \nWhen: Time: August 16th\, 2024 10:00 AM Central Time (US and Canada) \nHow: Join Zoom Meeting \nPlease download and import the following iCalendar (.ics) files to your calendar system. \nMonthly: https://us02web.zoom.us/meeting/tZcld-2prD4iHNU9B1S6QgZYrURGPbcMPLIJ/ics?icsToken=98tyKuGrpjsuG9aQuB-GRpwqGoigLOvzpiVHgo1oxT20MHZiZTnPJNdwFYJ9E_Xg \nAdditional Resources\nIntegrated Pest Management \nAgriLife Extension Entomology \nPesticide Safety Education Resources \nAbout Wizzie\n\nWizzie Brown\nCounty Extension Program Specialist – Integrated Pest Management\nEmail:EBrown@ag.tamu.edu\nWizzie has been with Texas A&M AgriLife Extension Service since 2002 and has been playing with insects since she was a toddler. She is an Extension Program Specialist with the Integrated Pest Management (IPM) program. Wizzie holds a B.S. in entomology from The Ohio State University and a M.S. in entomology from Texas A&M University. The integrated pest management program provides identification\, biological and management information to whomever needs help. Wizzie’s research focuses on imported fire ants\, including community wide fire ant management. Wizzie also is happy to provide programs to area groups on a variety of arthropod-related topics. You can find insect and other arthropod information on Wizzie’s blog.
URL:https://travis-tx.tamu.edu/event/backyard-bug-hunt-decomposers/
LOCATION:Zoom Meeting
CATEGORIES:Horticulture,IPM
ORGANIZER;CN="Wizzie Brown":MAILTO:EBrown@ag.tamu.edu
END:VEVENT
BEGIN:VEVENT
DTSTART;TZID=America/Chicago:20240817T100000
DTEND;TZID=America/Chicago:20240817T140000
DTSTAMP:20260425T075418
CREATED:20240808T171325Z
LAST-MODIFIED:20240808T171325Z
UID:18082-1723888800-1723903200@travis-tx.tamu.edu
SUMMARY:Take a Loved One for a Checkup Day August 17th
DESCRIPTION:Join the Travis County Master Gardener Plant Clinic at this great event for your family. Stop by and make a herb sachet while your loved one get’s their health screening.
URL:https://travis-tx.tamu.edu/event/take-a-loved-one-for-a-checkup-day-august-17th/
LOCATION:Parque Zaragoza Recreation Center and Park\, 2608 Gonzales Street\, Austin\, TX\, 78702\, United States
CATEGORIES:Horticulture
ORGANIZER;CN="Travis County Master Gardeners":MAILTO:travismg@ag.tamu.edu
END:VEVENT
BEGIN:VEVENT
DTSTART;TZID=America/Chicago:20240823T100000
DTEND;TZID=America/Chicago:20240823T120000
DTSTAMP:20260425T075418
CREATED:20240711T194220Z
LAST-MODIFIED:20240711T194220Z
UID:17940-1724407200-1724414400@travis-tx.tamu.edu
SUMMARY:Rainwater Harvesting and Climate-Smart Practices Program
DESCRIPTION:
URL:https://travis-tx.tamu.edu/event/rainwater-harvesting-and-climate-smart-practices-program/
LOCATION:Austin Water Center for Environmental Research\, Hornsby Bend 2210 South FM 973\, Austin\, TX\, 78725\, United States
CATEGORIES:Agriculture and Natural Resources,Horticulture
ORGANIZER;CN="Peter Agboola%2C CEP AgNR Extension":MAILTO:ptagboola@pvamu.edu
END:VEVENT
BEGIN:VEVENT
DTSTART;TZID=America/Chicago:20240824T100000
DTEND;TZID=America/Chicago:20240824T100000
DTSTAMP:20260425T075418
CREATED:20240808T165850Z
LAST-MODIFIED:20240808T165850Z
UID:18078-1724493600-1724493600@travis-tx.tamu.edu
SUMMARY:Basics of Food Preservation on August 24th
DESCRIPTION:
URL:https://travis-tx.tamu.edu/event/basics-of-food-preservation-on-august-24th/
LOCATION:Texas A&M AgriLife Extension Office – Travis County\, 1600-B Smith Rd.\, Austin\, 78721\, United States
CATEGORIES:Family and Community Health,Horticulture
ORGANIZER;CN="Sonia Coyle":MAILTO:Sonia.Coyle@ag.tamu.edu
END:VEVENT
END:VCALENDAR